BEGIN:VCALENDAR
VERSION:2.0
PRODID:-//Muslim Family Initiative - ECPv6.6.4.2//NONSGML v1.0//EN
CALSCALE:GREGORIAN
METHOD:PUBLISH
X-ORIGINAL-URL:https://muslimfamilyinitiative.org
X-WR-CALDESC:Events for Muslim Family Initiative
REFRESH-INTERVAL;VALUE=DURATION:PT1H
X-Robots-Tag:noindex
X-PUBLISHED-TTL:PT1H
BEGIN:VTIMEZONE
TZID:UTC
BEGIN:STANDARD
TZOFFSETFROM:+0000
TZOFFSETTO:+0000
TZNAME:UTC
DTSTART:20110101T000000
END:STANDARD
END:VTIMEZONE
BEGIN:VEVENT
DTSTART;TZID=UTC:20250315T130000
DTEND;TZID=UTC:20250315T150000
DTSTAMP:20260423T174421
CREATED:20250305T121732Z
LAST-MODIFIED:20250305T121732Z
UID:16785-1742043600-1742050800@muslimfamilyinitiative.org
SUMMARY:Ramadan: Desires\, Behaviours\, Purpose and the People of Lut
DESCRIPTION:
URL:https://muslimfamilyinitiative.org/event/ramadan-desires-behaviours-purpose-and-the-people-of-lut-2/
LOCATION:Tooting Islamic Centre\, 145 Upper Tooting Rd\, London\, London\, SW17 7TJ\, United Kingdom
ATTACH;FMTTYPE=image/jpeg:https://muslimfamilyinitiative.org/wp-content/uploads/2025/03/Ramadan-TIC-New-scaled.jpg
END:VEVENT
BEGIN:VEVENT
DTSTART;VALUE=DATE:20150929
DTEND;VALUE=DATE:20150930
DTSTAMP:20260423T174421
CREATED:20240507T140036Z
LAST-MODIFIED:20240507T140114Z
UID:16163-1443484800-1443571199@muslimfamilyinitiative.org
SUMMARY:Managing the Awkward Conversation
DESCRIPTION:
URL:https://muslimfamilyinitiative.org/event/managing-the-awkward-conversation/
LOCATION:Event Venue\, Lampton School\, Lampton Venue\, Hounslow\, United Kingdom
CATEGORIES:Category Event
END:VEVENT
BEGIN:VEVENT
DTSTART;VALUE=DATE:20130527
DTEND;VALUE=DATE:20130528
DTSTAMP:20260423T174421
CREATED:20240507T135514Z
LAST-MODIFIED:20240507T140121Z
UID:16160-1369612800-1369699199@muslimfamilyinitiative.org
SUMMARY:Sexuality and Growing Up
DESCRIPTION:
URL:https://muslimfamilyinitiative.org/event/sexuality-and-growing-up/
LOCATION:Ibrahim College\, 80 Greenfield Rd\, E1\, United Kingdom
CATEGORIES:Category Event
END:VEVENT
BEGIN:VEVENT
DTSTART;VALUE=DATE:20130330
DTEND;VALUE=DATE:20130331
DTSTAMP:20260423T174421
CREATED:20240507T134732Z
LAST-MODIFIED:20240507T140128Z
UID:16156-1364601600-1364687999@muslimfamilyinitiative.org
SUMMARY:The Gay Marriage Conference
DESCRIPTION:
URL:https://muslimfamilyinitiative.org/event/the-gay-marriage-conference/
LOCATION:363-365 Lewisham High Street\, 363-365 Lewisham High Street\, United Kingdom
CATEGORIES:Category Event
END:VEVENT
BEGIN:VEVENT
DTSTART;TZID=UTC:20111217T100000
DTEND;TZID=UTC:20111217T133000
DTSTAMP:20260423T174421
CREATED:20240507T133945Z
LAST-MODIFIED:20240507T140137Z
UID:16152-1324116000-1324128600@muslimfamilyinitiative.org
SUMMARY:Sex Education Crisis in Tower Hamlets' Schools
DESCRIPTION:
URL:https://muslimfamilyinitiative.org/event/sex-education-crisis-in-tower-hamlets-schools/
LOCATION:London Muslim Center\, Seminar Room\, London Muslim Center\, United Kingdom
CATEGORIES:Category Event
ORGANIZER;CN="The Association of Muslim Governers":MAILTO:info@muslimgoverners.com
END:VEVENT
END:VCALENDAR